BEGIN:VCALENDAR
VERSION:2.0
PRODID:-//Contratero//ES
CALSCALE:GREGORIAN
METHOD:PUBLISH
BEGIN:VEVENT
UID:CPASU/2019/02 XI Leg@contratero.es
DTSTAMP:20260425T155122Z
DTSTART:20190410T235959
DTEND:20190411T005959
SUMMARY:Cierre: Suministro de dispositivos de Oficina Móvil y serv
DESCRIPTION:Suministro de dispositivos de Oficina Móvil y servicios anejos para la XI Legislatura de la Asamblea de Madrid\, dividido en lotes.\\n\\nOrganismo: Mesa de la Asamblea de Madrid\\n\\nVer en Contratero: https://contratero.es/contracts/CPASU/2019/02 XI Leg
URL:https://contratero.es/contracts/CPASU/2019/02 XI Leg
STATUS:CONFIRMED
BEGIN:VALARM
TRIGGER:-P1D
ACTION:DISPLAY
DESCRIPTION:Recordatorio: Suministro de dispositivos de 
END:VALARM
END:VEVENT
END:VCALENDAR